BEGIN:VCALENDAR
VERSION:2.0
PRODID:-//fhasinc.org//NONSGML kigkonsult.se iCalcreator 2.30.10//
CALSCALE:GREGORIAN
METHOD:PUBLISH
UID:bbf48fa6-6de6-4eed-9f9b-bcb71edb89d1
X-WR-CALDESC:
X-WR-RELCALID:55eca8ea421117a46dcc4a246d8dbb13
X-WR-TIMEZONE:America/Chicago
BEGIN:VTIMEZONE
TZID:America/Chicago
BEGIN:STANDARD
TZNAME:CST
DTSTART:20251102T020000
TZOFFSETFROM:-0500
TZOFFSETTO:-0600
RDATE:20261101T020000
END:STANDARD
BEGIN:DAYLIGHT
TZNAME:CDT
DTSTART:20250309T020000
TZOFFSETFROM:-0600
TZOFFSETTO:-0500
RDATE:20260308T020000
RDATE:20270314T020000
END:DAYLIGHT
END:VTIMEZONE
BEGIN:VEVENT
UID:8962fa36-6f2e-4623-a0d4-78a11ecc2ff2
DTSTAMP:20260421T114255Z
DESCRIPTION:
DTSTART;TZID=America/Chicago:20251202T050000
DTEND;TZID=America/Chicago:20251202T050001
LOCATION:https://shareomaha.org/nonprofit/family-housing-advisory-services
SUMMARY:#Giving Tuesday Is Today! Please donate to help reach $50\,000 Chal
 lenge to help prevent Homelessness and improve housing opportunities!
END:VEVENT
END:VCALENDAR
