BEGIN:VCALENDAR
VERSION:2.0
PRODID:-//fhasinc.org//NONSGML kigkonsult.se iCalcreator 2.30.10//
CALSCALE:GREGORIAN
METHOD:PUBLISH
UID:8023e840-46bb-42fd-a17a-605fe7dbfa02
X-WR-CALDESC:FHAS provides Housing and Urban Development (HUD) pre-purchase
  education and one-on-one counseling to assist potential homeowners on the
  journey to home ownership.\nAdvance registration is required for all clas
 ses
X-WR-RELCALID:fb90bdff837b9b13bfa2930482719866
X-WR-TIMEZONE:America/Chicago
BEGIN:VTIMEZONE
TZID:America/Chicago
BEGIN:STANDARD
TZNAME:CST
DTSTART:20251102T020000
TZOFFSETFROM:-0500
TZOFFSETTO:-0600
RDATE:20261101T020000
RDATE:20271107T020000
END:STANDARD
BEGIN:DAYLIGHT
TZNAME:CDT
DTSTART:20260308T020000
TZOFFSETFROM:-0600
TZOFFSETTO:-0500
RDATE:20270314T020000
RDATE:20280312T020000
END:DAYLIGHT
END:VTIMEZONE
BEGIN:VEVENT
UID:ca2a5bb7-bb52-4566-98d9-40ef8ce17b47
DTSTAMP:20260422T222128Z
DESCRIPTION:FHAS provides Housing and Urban Development (HUD) pre-purchase 
 education and one-on-one counseling to assist potential homeowners on the 
 journey to home ownership.\nAdvance registration is required for all class
 es
DTSTART;TZID=America/Chicago:20260914T180000
DTEND;TZID=America/Chicago:20260914T210000
LOCATION:https://fhasinc.org/what-we-do/programs-services/homeownership.htm
 l
SUMMARY:Pre-Purchase Workshop
END:VEVENT
END:VCALENDAR
