BEGIN:VCALENDAR
VERSION:2.0
PRODID:-//fhasinc.org//NONSGML kigkonsult.se iCalcreator 2.30.10//
CALSCALE:GREGORIAN
METHOD:PUBLISH
UID:74983d70-4ca6-4a25-885b-a74772ee5350
X-WR-CALDESC:FHAS provides Housing and Urban Development (HUD) pre-purchase
  education and\none-on-one counseling to assist potential homeowners on th
 e journey to home ownership.
X-WR-RELCALID:9eb334e92f818ed1a3e4e8215cba1550
X-WR-TIMEZONE:America/Chicago
BEGIN:VTIMEZONE
TZID:America/Chicago
BEGIN:STANDARD
TZNAME:CST
DTSTART:20251102T020000
TZOFFSETFROM:-0500
TZOFFSETTO:-0600
RDATE:20261101T020000
RDATE:20271107T020000
END:STANDARD
BEGIN:DAYLIGHT
TZNAME:CDT
DTSTART:20260308T020000
TZOFFSETFROM:-0600
TZOFFSETTO:-0500
RDATE:20270314T020000
END:DAYLIGHT
END:VTIMEZONE
BEGIN:VEVENT
UID:129e07e1-cd43-49ee-869d-0e1e17dfe112
DTSTAMP:20260422T195818Z
DESCRIPTION:FHAS provides Housing and Urban Development (HUD) pre-purchase 
 education and\none-on-one counseling to assist potential homeowners on the
  journey to home ownership.
DTSTART;TZID=America/Chicago:20260711T083000
DTEND;TZID=America/Chicago:20260711T170000
LOCATION:https://fhasinc.org/what-we-do/programs-services/homeownership.htm
 l
SUMMARY:Pre-Purchase workshop
END:VEVENT
END:VCALENDAR
