BEGIN:VCALENDAR
VERSION:2.0
PRODID:-//fhasinc.org//NONSGML kigkonsult.se iCalcreator 2.30.10//
CALSCALE:GREGORIAN
METHOD:PUBLISH
UID:e3a14d5c-fe65-460d-9f54-2c50c5b7e256
X-WR-CALDESC:FHAS provides Housing and Urban Development (HUD) pre-purchase
  education and\none-on-one counseling to assist potential homeowners on th
 e journey to home ownership.
X-WR-RELCALID:d92a3b89e2dccf8267ac409e990e51d2
X-WR-TIMEZONE:America/Chicago
BEGIN:VTIMEZONE
TZID:America/Chicago
BEGIN:STANDARD
TZNAME:CST
DTSTART:20251102T020000
TZOFFSETFROM:-0500
TZOFFSETTO:-0600
RDATE:20261101T020000
END:STANDARD
BEGIN:DAYLIGHT
TZNAME:CDT
DTSTART:20260308T020000
TZOFFSETFROM:-0600
TZOFFSETTO:-0500
RDATE:20270314T020000
END:DAYLIGHT
END:VTIMEZONE
BEGIN:VEVENT
UID:9593833f-ffa9-4567-8e67-de8924281395
DTSTAMP:20260420T155853Z
DESCRIPTION:FHAS provides Housing and Urban Development (HUD) pre-purchase 
 education and\none-on-one counseling to assist potential homeowners on the
  journey to home ownership.
DTSTART;TZID=America/Chicago:20260504T180000
DTEND;TZID=America/Chicago:20260504T210000
LOCATION:2401 Lake Street\, Omaha\, NE 68111 US
SUMMARY:Pre-Purchase workshop
END:VEVENT
END:VCALENDAR
