BEGIN:VCALENDAR
VERSION:2.0
PRODID:-//fhasinc.org//NONSGML kigkonsult.se iCalcreator 2.30.10//
CALSCALE:GREGORIAN
METHOD:PUBLISH
UID:3888815a-bcbd-48fd-aae8-45054c2750bb
X-WR-CALDESC:FHAS provides Housing and Urban Development (HUD) pre-purchase
  education and one-on-one counseling to assist potential homeowners on the
  journey to home ownership.\nAdvance registration is required for all clas
 ses
X-WR-RELCALID:977567b7dd9c306f998b76dac5ba2a22
X-WR-TIMEZONE:America/Chicago
BEGIN:VTIMEZONE
TZID:America/Chicago
BEGIN:STANDARD
TZNAME:CST
DTSTART:20251102T020000
TZOFFSETFROM:-0500
TZOFFSETTO:-0600
RDATE:20261101T020000
END:STANDARD
BEGIN:DAYLIGHT
TZNAME:CDT
DTSTART:20260308T020000
TZOFFSETFROM:-0600
TZOFFSETTO:-0500
RDATE:20270314T020000
END:DAYLIGHT
END:VTIMEZONE
BEGIN:VEVENT
UID:f7156013-79e0-49df-be1f-8c111fc0981a
DTSTAMP:20260422T172536Z
DESCRIPTION:FHAS provides Housing and Urban Development (HUD) pre-purchase 
 education and one-on-one counseling to assist potential homeowners on the 
 journey to home ownership.\nAdvance registration is required for all class
 es
DTSTART;TZID=America/Chicago:20260330T180000
DTEND;TZID=America/Chicago:20260330T210000
LOCATION:https://fhasinc.org/what-we-do/programs-services/homeownership.htm
 l
SUMMARY:Pre-Purchase Workshop
END:VEVENT
END:VCALENDAR
