BEGIN:VCALENDAR
VERSION:2.0
PRODID:-//fhasinc.org//NONSGML kigkonsult.se iCalcreator 2.30.10//
CALSCALE:GREGORIAN
METHOD:PUBLISH
UID:ab622c9c-e33f-42f9-824d-a82c2377fd8d
X-WR-CALDESC:FHAS provides Housing and Urban Development (HUD) pre-purchase
  education and one-on-one counseling to assist potential homeowners on the
  journey to home ownership.\nAdvance registration is required for all clas
 ses.\n\n
X-WR-RELCALID:ee2e8d984c12eb39b8135afbee63c18c
X-WR-TIMEZONE:America/Chicago
BEGIN:VTIMEZONE
TZID:America/Chicago
BEGIN:STANDARD
TZNAME:CST
DTSTART:20251102T020000
TZOFFSETFROM:-0500
TZOFFSETTO:-0600
RDATE:20261101T020000
END:STANDARD
BEGIN:DAYLIGHT
TZNAME:CDT
DTSTART:20260308T020000
TZOFFSETFROM:-0600
TZOFFSETTO:-0500
RDATE:20270314T020000
END:DAYLIGHT
END:VTIMEZONE
BEGIN:VEVENT
UID:8b90ba36-3d7c-4fdf-a1fd-3f4b311d13c3
DTSTAMP:20260422T172009Z
DESCRIPTION:FHAS provides Housing and Urban Development (HUD) pre-purchase 
 education and one-on-one counseling to assist potential homeowners on the 
 journey to home ownership.\nAdvance registration is required for all class
 es.\n\n
DTSTART;TZID=America/Chicago:20260323T180000
DTEND;TZID=America/Chicago:20260323T210000
LOCATION:https://fhasinc.org/what-we-do/programs-services/homeownership.htm
 l
SUMMARY:Pre-Purchase Workshop
END:VEVENT
END:VCALENDAR
